BEGIN:VCALENDAR
VERSION:2.0
PRODID:-//AAdeRiverside.org - ECPv6.15.20//NONSGML v1.0//EN
CALSCALE:GREGORIAN
METHOD:PUBLISH
X-WR-CALNAME:AAdeRiverside.org
X-ORIGINAL-URL:http://aaderiverside.org
X-WR-CALDESC:Eventos para AAdeRiverside.org
REFRESH-INTERVAL;VALUE=DURATION:PT1H
X-Robots-Tag:noindex
X-PUBLISHED-TTL:PT1H
BEGIN:VTIMEZONE
TZID:America/Los_Angeles
BEGIN:DAYLIGHT
TZOFFSETFROM:-0800
TZOFFSETTO:-0700
TZNAME:PDT
DTSTART:20250309T100000
END:DAYLIGHT
BEGIN:STANDARD
TZOFFSETFROM:-0700
TZOFFSETTO:-0800
TZNAME:PST
DTSTART:20251102T090000
END:STANDARD
BEGIN:DAYLIGHT
TZOFFSETFROM:-0800
TZOFFSETTO:-0700
TZNAME:PDT
DTSTART:20260308T100000
END:DAYLIGHT
BEGIN:STANDARD
TZOFFSETFROM:-0700
TZOFFSETTO:-0800
TZNAME:PST
DTSTART:20261101T090000
END:STANDARD
BEGIN:DAYLIGHT
TZOFFSETFROM:-0800
TZOFFSETTO:-0700
TZNAME:PDT
DTSTART:20270314T100000
END:DAYLIGHT
BEGIN:STANDARD
TZOFFSETFROM:-0700
TZOFFSETTO:-0800
TZNAME:PST
DTSTART:20271107T090000
END:STANDARD
END:VTIMEZONE
BEGIN:VEVENT
DTSTART;TZID=America/Los_Angeles:20260509T100000
DTEND;TZID=America/Los_Angeles:20260509T170000
DTSTAMP:20260422T110503
CREATED:20260422T172556Z
LAST-MODIFIED:20260422T172959Z
UID:2301-1778320800-1778346000@aaderiverside.org
SUMMARY:Serenidad de Corona – Junta de Mediana Edad
DESCRIPTION:
URL:http://aaderiverside.org/evento/serenidad-de-corona-junta-de-mediana-edad
LOCATION:Grupo «Serenidad de Corona»\, 508 S. Smith Avenue #203\, Corona\, California\, 92882
CATEGORIES:Juntas
END:VEVENT
BEGIN:VEVENT
DTSTART;TZID=America/Los_Angeles:20260516T170000
DTEND;TZID=America/Los_Angeles:20260516T190000
DTSTAMP:20260422T110503
CREATED:20260422T172120Z
LAST-MODIFIED:20260422T172120Z
UID:2297-1778950800-1778958000@aaderiverside.org
SUMMARY:Mente Alerta – Aniversario 29º de Herminio
DESCRIPTION:
URL:http://aaderiverside.org/evento/mente-alerta-aniversario-29o-de-herminio
LOCATION:Grupo «Mente Alerta»\, 6132 Harold Avenue\, Riverside\, California\, 92503
CATEGORIES:Aniversarios de Miembros
END:VEVENT
BEGIN:VEVENT
DTSTART;TZID=America/Los_Angeles:20260516T180000
DTEND;TZID=America/Los_Angeles:20260516T210000
DTSTAMP:20260422T110503
CREATED:20260422T171750Z
LAST-MODIFIED:20260422T171750Z
UID:2295-1778954400-1778965200@aaderiverside.org
SUMMARY:Al Fin Llegué – Aniversario 14º de César
DESCRIPTION:
URL:http://aaderiverside.org/evento/al-fin-llegue-aniversario-14o-de-cesar
LOCATION:Grupo «Al Fin Llegué»\, 5115 Jurupa Avenue\, Riverside\, California\, 92504
CATEGORIES:Aniversarios de Miembros
END:VEVENT
BEGIN:VEVENT
DTSTART;TZID=America/Los_Angeles:20260517T170000
DTEND;TZID=America/Los_Angeles:20260517T210000
DTSTAMP:20260422T110503
CREATED:20260422T012541Z
LAST-MODIFIED:20260422T171355Z
UID:2276-1779037200-1779051600@aaderiverside.org
SUMMARY:Un Día a la Vez – Aniversario 27º de Juventino
DESCRIPTION:
URL:http://aaderiverside.org/evento/un-dia-a-la-vez-aniversario-27o-de-juventino
LOCATION:Grupo «Un Dia a la Vez»\, 3409 Arlington Avenue\, Riverside\, 92506\, United States
CATEGORIES:Aniversarios de Miembros
END:VEVENT
END:VCALENDAR